Package: BioNERO Version: 1.19.0 Command: /home/biocbuild/bbs-3.23-bioc/R/bin/R CMD build --keep-empty-dirs --no-resave-data BioNERO StartedAt: 2025-11-13 16:30:00 -0500 (Thu, 13 Nov 2025) EndedAt: 2025-11-13 16:34:47 -0500 (Thu, 13 Nov 2025) EllapsedTime: 286.3 seconds RetCode: 0 Status: OK PackageFile: BioNERO_1.19.0.tar.gz PackageFileSize: 4.828 MiB