Package: BioNERO Version: 1.19.0 Command: /Library/Frameworks/R.framework/Resources/bin/R CMD INSTALL BioNERO StartedAt: 2025-11-13 15:27:19 -0500 (Thu, 13 Nov 2025) EndedAt: 2025-11-13 15:27:33 -0500 (Thu, 13 Nov 2025) EllapsedTime: 14.4 seconds RetCode: 0 Status: OK