Package: BioNERO Version: 1.19.0 Maintainer: Fabricio Almeida-Silva MaintainerEmail: fabricio_almeidasilva at hotmail.com git_url: https://git.bioconductor.org/packages/BioNERO git_branch: devel git_last_commit: 632a85b git_last_commit_date: 2025-10-29 11:07:25 -0500 (Wed, 29 Oct 2025)