Package: BioNAR Version: 1.13.0 Command: /home/biocbuild/bbs-3.23-bioc/R/bin/R CMD INSTALL BioNAR StartedAt: 2025-11-14 15:45:08 -0500 (Fri, 14 Nov 2025) EndedAt: 2025-11-14 15:45:34 -0500 (Fri, 14 Nov 2025) EllapsedTime: 25.7 seconds RetCode: 0 Status: OK