Package: BioNAR Version: 1.13.0 Command: /home/biocbuild/bbs-3.23-bioc/R/bin/R CMD build --keep-empty-dirs --no-resave-data BioNAR StartedAt: 2025-11-13 16:29:49 -0500 (Thu, 13 Nov 2025) EndedAt: 2025-11-13 16:32:19 -0500 (Thu, 13 Nov 2025) EllapsedTime: 149.1 seconds RetCode: 0 Status: OK PackageFile: BioNAR_1.13.0.tar.gz PackageFileSize: 3.429 MiB