Package: BioNAR Version: 1.13.0 Command: /Library/Frameworks/R.framework/Resources/bin/R CMD INSTALL BioNAR StartedAt: 2025-11-14 15:23:21 -0500 (Fri, 14 Nov 2025) EndedAt: 2025-11-14 15:23:30 -0500 (Fri, 14 Nov 2025) EllapsedTime: 9.7 seconds RetCode: 0 Status: OK