Package: BioNAR Version: 1.13.0 Maintainer: Anatoly Sorokin MaintainerEmail: lptolik at gmail.com git_url: https://git.bioconductor.org/packages/BioNAR git_branch: devel git_last_commit: 77425df git_last_commit_date: 2025-10-29 11:19:29 -0500 (Wed, 29 Oct 2025)