Package: BioMVCClass Version: 1.79.0 Command: /home/biocbuild/bbs-3.23-bioc/R/bin/R CMD INSTALL BioMVCClass StartedAt: 2025-11-11 15:18:52 -0500 (Tue, 11 Nov 2025) EndedAt: 2025-11-11 15:18:55 -0500 (Tue, 11 Nov 2025) EllapsedTime: 3.7 seconds RetCode: 0 Status: OK