Package: BioMVCClass Version: 1.79.0 Command: /home/biocbuild/bbs-3.23-bioc/R/bin/R CMD check --install=check:BioMVCClass.install-out.txt --library=/home/biocbuild/bbs-3.23-bioc/R/site-library --timings BioMVCClass_1.79.0.tar.gz StartedAt: 2025-11-11 21:33:33 -0500 (Tue, 11 Nov 2025) EndedAt: 2025-11-11 21:34:23 -0500 (Tue, 11 Nov 2025) EllapsedTime: 50.1 seconds RetCode: 0 Status: OK CheckDir: BioMVCClass.Rcheck Warnings: 0