Package: BioMVCClass Version: 1.79.0 Command: /Library/Frameworks/R.framework/Resources/bin/R CMD INSTALL BioMVCClass StartedAt: 2025-11-18 15:23:32 -0500 (Tue, 18 Nov 2025) EndedAt: 2025-11-18 15:23:39 -0500 (Tue, 18 Nov 2025) EllapsedTime: 7.0 seconds RetCode: 0 Status: OK