Package: BioMVCClass Version: 1.79.0 Command: /Library/Frameworks/R.framework/Resources/bin/R CMD check --install=check:BioMVCClass.install-out.txt --library=/Library/Frameworks/R.framework/Resources/library --no-vignettes --timings BioMVCClass_1.79.0.tar.gz StartedAt: 2025-11-18 19:40:18 -0500 (Tue, 18 Nov 2025) EndedAt: 2025-11-18 19:41:05 -0500 (Tue, 18 Nov 2025) EllapsedTime: 47.0 seconds RetCode: 0 Status: OK CheckDir: BioMVCClass.Rcheck Warnings: 0