Package: BioMVCClass Version: 1.79.0 Command: /Library/Frameworks/R.framework/Resources/bin/R CMD build --keep-empty-dirs --no-resave-data BioMVCClass StartedAt: 2025-11-18 16:13:40 -0500 (Tue, 18 Nov 2025) EndedAt: 2025-11-18 16:13:53 -0500 (Tue, 18 Nov 2025) EllapsedTime: 13.7 seconds RetCode: 0 Status: OK PackageFile: BioMVCClass_1.79.0.tar.gz PackageFileSize: 130.8 KiB