Package: BioMVCClass Version: 1.79.0 Command: rm -rf BioMVCClass.buildbin-libdir && mkdir BioMVCClass.buildbin-libdir && /Users/biocbuild/BBS/utils/build-universal.sh BioMVCClass_1.79.0.tar.gz /Library/Frameworks/R.framework/Resources/bin/R BioMVCClass.buildbin-libdir StartedAt: 2025-11-19 01:18:56 -0500 (Wed, 19 Nov 2025) EndedAt: 2025-11-19 01:19:07 -0500 (Wed, 19 Nov 2025) EllapsedTime: 10.5 seconds RetCode: 0 Status: OK PackageFile: BioMVCClass_1.79.0.tgz PackageFileSize: 144.2 KiB