Package: BioMVCClass Version: 1.79.0 Command: /Library/Frameworks/R.framework/Resources/bin/R CMD build --keep-empty-dirs --no-resave-data BioMVCClass StartedAt: 2025-11-13 15:48:57 -0500 (Thu, 13 Nov 2025) EndedAt: 2025-11-13 15:49:01 -0500 (Thu, 13 Nov 2025) EllapsedTime: 4.1 seconds RetCode: 0 Status: OK PackageFile: BioMVCClass_1.79.0.tar.gz PackageFileSize: 131.3 KiB