Package: BioGA Version: 1.5.0 Command: /home/biocbuild/bbs-3.23-bioc/R/bin/R CMD INSTALL BioGA StartedAt: 2025-11-13 15:58:55 -0500 (Thu, 13 Nov 2025) EndedAt: 2025-11-13 15:59:40 -0500 (Thu, 13 Nov 2025) EllapsedTime: 44.7 seconds RetCode: 0 Status: OK