Package: BioGA Version: 1.5.0 Command: /home/biocbuild/bbs-3.23-bioc/R/bin/R CMD build --keep-empty-dirs --no-resave-data BioGA StartedAt: 2025-11-11 16:32:57 -0500 (Tue, 11 Nov 2025) EndedAt: 2025-11-11 16:33:52 -0500 (Tue, 11 Nov 2025) EllapsedTime: 55.0 seconds RetCode: 0 Status: OK PackageFile: BioGA_1.5.0.tar.gz PackageFileSize: 329.3 KiB