Package: BioGA Version: 1.5.0 Command: /Library/Frameworks/R.framework/Resources/bin/R CMD INSTALL BioGA StartedAt: 2025-11-13 15:33:42 -0500 (Thu, 13 Nov 2025) EndedAt: 2025-11-13 15:33:57 -0500 (Thu, 13 Nov 2025) EllapsedTime: 15.4 seconds RetCode: 0 Status: OK