Package: BioGA Version: 1.5.0 Command: /Library/Frameworks/R.framework/Resources/bin/R CMD build --keep-empty-dirs --no-resave-data BioGA StartedAt: 2025-11-13 15:48:55 -0500 (Thu, 13 Nov 2025) EndedAt: 2025-11-13 15:49:15 -0500 (Thu, 13 Nov 2025) EllapsedTime: 20.2 seconds RetCode: 0 Status: OK PackageFile: BioGA_1.5.0.tar.gz PackageFileSize: 310 KiB