Package: BioCor Version: 1.35.0 Command: /home/biocbuild/bbs-3.23-bioc/R/bin/R CMD INSTALL BioCor StartedAt: 2025-11-14 15:30:49 -0500 (Fri, 14 Nov 2025) EndedAt: 2025-11-14 15:31:08 -0500 (Fri, 14 Nov 2025) EllapsedTime: 19.5 seconds RetCode: 0 Status: OK