Package: BioCor Version: 1.35.0 Command: /home/biocbuild/bbs-3.23-bioc/R/bin/R CMD build --keep-empty-dirs --no-resave-data BioCor StartedAt: 2025-11-13 16:28:36 -0500 (Thu, 13 Nov 2025) EndedAt: 2025-11-13 16:31:28 -0500 (Thu, 13 Nov 2025) EllapsedTime: 172.2 seconds RetCode: 0 Status: OK PackageFile: BioCor_1.35.0.tar.gz PackageFileSize: 1.636 MiB