Package: BioCartaImage Version: 1.9.0 Command: /Library/Frameworks/R.framework/Resources/bin/R CMD INSTALL BioCartaImage StartedAt: 2025-11-12 15:16:29 -0500 (Wed, 12 Nov 2025) EndedAt: 2025-11-12 15:16:39 -0500 (Wed, 12 Nov 2025) EllapsedTime: 10.6 seconds RetCode: 0 Status: OK