Package: BioCartaImage Version: 1.9.0 Command: rm -rf BioCartaImage.buildbin-libdir && mkdir BioCartaImage.buildbin-libdir && /Users/biocbuild/BBS/utils/build-universal.sh BioCartaImage_1.9.0.tar.gz /Library/Frameworks/R.framework/Resources/bin/R BioCartaImage.buildbin-libdir StartedAt: 2025-11-13 23:29:12 -0500 (Thu, 13 Nov 2025) EndedAt: 2025-11-13 23:29:15 -0500 (Thu, 13 Nov 2025) EllapsedTime: 3.1 seconds RetCode: 0 Status: OK PackageFile: BioCartaImage_1.9.0.tgz PackageFileSize: 3.667 MiB