Package: BioCartaImage Version: 1.9.0 Maintainer: Zuguang Gu MaintainerEmail: z.gu at dkfz.de git_url: https://git.bioconductor.org/packages/BioCartaImage git_branch: devel git_last_commit: fc7e340 git_last_commit_date: 2025-10-29 11:25:55 -0500 (Wed, 29 Oct 2025)