Package: BindingSiteFinder Version: 2.9.0 Command: /home/biocbuild/bbs-3.23-bioc/R/bin/R CMD INSTALL BindingSiteFinder StartedAt: 2025-11-13 15:40:12 -0500 (Thu, 13 Nov 2025) EndedAt: 2025-11-13 15:40:59 -0500 (Thu, 13 Nov 2025) EllapsedTime: 46.2 seconds RetCode: 0 Status: OK