Package: BindingSiteFinder Version: 2.9.0 Command: /Library/Frameworks/R.framework/Resources/bin/R CMD INSTALL BindingSiteFinder StartedAt: 2025-11-14 15:21:09 -0500 (Fri, 14 Nov 2025) EndedAt: 2025-11-14 15:21:26 -0500 (Fri, 14 Nov 2025) EllapsedTime: 17.8 seconds RetCode: 0 Status: OK