Package: BindingSiteFinder Version: 2.9.0 Command: /Library/Frameworks/R.framework/Resources/bin/R CMD build --keep-empty-dirs --no-resave-data BindingSiteFinder StartedAt: 2025-11-14 15:44:42 -0500 (Fri, 14 Nov 2025) EndedAt: 2025-11-14 15:45:45 -0500 (Fri, 14 Nov 2025) EllapsedTime: 62.7 seconds RetCode: 0 Status: OK PackageFile: BindingSiteFinder_2.9.0.tar.gz PackageFileSize: 2.773 MiB