Package: BindingSiteFinder Version: 2.9.0 Maintainer: Mirko Brüggemann MaintainerEmail: mirko.brueggemann at mail.de git_url: https://git.bioconductor.org/packages/BindingSiteFinder git_branch: devel git_last_commit: 885c4f6 git_last_commit_date: 2025-10-29 11:10:55 -0500 (Wed, 29 Oct 2025)