Package: BiSeq Version: 1.51.0 Command: /Library/Frameworks/R.framework/Resources/bin/R CMD build --keep-empty-dirs --no-resave-data BiSeq StartedAt: 2025-11-13 15:49:44 -0500 (Thu, 13 Nov 2025) EndedAt: 2025-11-13 15:50:29 -0500 (Thu, 13 Nov 2025) EllapsedTime: 44.5 seconds RetCode: 0 Status: OK PackageFile: BiSeq_1.51.0.tar.gz PackageFileSize: 915.3 KiB