Package: BiSeq Version: 1.51.0 Command: rm -rf BiSeq.buildbin-libdir && mkdir BiSeq.buildbin-libdir && /Users/biocbuild/BBS/utils/build-universal.sh BiSeq_1.51.0.tar.gz /Library/Frameworks/R.framework/Resources/bin/R BiSeq.buildbin-libdir StartedAt: 2025-11-13 23:29:38 -0500 (Thu, 13 Nov 2025) EndedAt: 2025-11-13 23:29:58 -0500 (Thu, 13 Nov 2025) EllapsedTime: 20.5 seconds RetCode: 0 Status: OK PackageFile: BiSeq_1.51.0.tgz PackageFileSize: 1.159 MiB