Package: BiSeq Version: 1.51.0 Maintainer: Katja Hebestreit MaintainerEmail: katja.hebestreit at gmail.com git_url: https://git.bioconductor.org/packages/BiSeq git_branch: devel git_last_commit: 6c33e6b git_last_commit_date: 2025-10-29 10:14:44 -0500 (Wed, 29 Oct 2025)