Package: BiRewire Version: 3.43.0 Command: /home/biocbuild/bbs-3.23-bioc/R/bin/R CMD INSTALL BiRewire StartedAt: 2025-11-16 15:06:14 -0500 (Sun, 16 Nov 2025) EndedAt: 2025-11-16 15:06:28 -0500 (Sun, 16 Nov 2025) EllapsedTime: 14.2 seconds RetCode: 0 Status: OK