Package: BiRewire Version: 3.43.0 Command: /Library/Frameworks/R.framework/Resources/bin/R CMD build --keep-empty-dirs --no-resave-data BiRewire StartedAt: 2025-11-12 15:53:39 -0500 (Wed, 12 Nov 2025) EndedAt: 2025-11-12 15:53:44 -0500 (Wed, 12 Nov 2025) EllapsedTime: 5.1 seconds RetCode: 1 Status: ERROR PackageFile: None PackageFileSize: NA