Package: BiFET Version: 1.31.0 Command: /Library/Frameworks/R.framework/Resources/bin/R CMD INSTALL BiFET StartedAt: 2025-11-14 15:11:34 -0500 (Fri, 14 Nov 2025) EndedAt: 2025-11-14 15:11:37 -0500 (Fri, 14 Nov 2025) EllapsedTime: 3.2 seconds RetCode: 0 Status: OK