Package: BiFET Version: 1.31.0 Command: /Library/Frameworks/R.framework/Resources/bin/R CMD build --keep-empty-dirs --no-resave-data BiFET StartedAt: 2025-11-16 15:44:09 -0500 (Sun, 16 Nov 2025) EndedAt: 2025-11-16 15:44:31 -0500 (Sun, 16 Nov 2025) EllapsedTime: 22.2 seconds RetCode: 0 Status: OK PackageFile: BiFET_1.31.0.tar.gz PackageFileSize: 642.2 KiB