Package: BiFET Version: 1.31.0 Command: rm -rf BiFET.buildbin-libdir && mkdir BiFET.buildbin-libdir && /Users/biocbuild/BBS/utils/build-universal.sh BiFET_1.31.0.tar.gz /Library/Frameworks/R.framework/Resources/bin/R BiFET.buildbin-libdir StartedAt: 2025-11-14 23:24:05 -0500 (Fri, 14 Nov 2025) EndedAt: 2025-11-14 23:24:10 -0500 (Fri, 14 Nov 2025) EllapsedTime: 5.1 seconds RetCode: 0 Status: OK PackageFile: BiFET_1.31.0.tgz PackageFileSize: 658.4 KiB