Package: BgeeDB Version: 2.37.0 Command: /home/biocbuild/bbs-3.23-bioc/R/bin/R CMD INSTALL BgeeDB StartedAt: 2025-11-14 15:40:13 -0500 (Fri, 14 Nov 2025) EndedAt: 2025-11-14 15:40:51 -0500 (Fri, 14 Nov 2025) EllapsedTime: 37.6 seconds RetCode: 0 Status: OK