Package: BgeeDB Version: 2.37.0 Command: /home/biocbuild/bbs-3.23-bioc/R/bin/R CMD build --keep-empty-dirs --no-resave-data BgeeDB StartedAt: 2025-11-14 16:26:04 -0500 (Fri, 14 Nov 2025) EndedAt: 2025-11-14 16:32:00 -0500 (Fri, 14 Nov 2025) EllapsedTime: 356.4 seconds RetCode: 0 Status: OK PackageFile: BgeeDB_2.37.0.tar.gz PackageFileSize: 107 KiB