Package: BgeeDB Version: 2.37.0 Command: /Library/Frameworks/R.framework/Resources/bin/R CMD INSTALL BgeeDB StartedAt: 2025-11-13 15:26:02 -0500 (Thu, 13 Nov 2025) EndedAt: 2025-11-13 15:26:18 -0500 (Thu, 13 Nov 2025) EllapsedTime: 15.7 seconds RetCode: 0 Status: OK