############################################################################## ############################################################################## ### ### Running command: ### ### /Library/Frameworks/R.framework/Resources/bin/R CMD INSTALL BgeeDB ### ############################################################################## ############################################################################## * installing to library ‘/Library/Frameworks/R.framework/Versions/4.6-arm64/Resources/library’ ERROR: dependency ‘HDF5Array’ is not available for package ‘BgeeDB’ Perhaps try a variation of: install.packages('HDF5Array') * removing ‘/Library/Frameworks/R.framework/Versions/4.6-arm64/Resources/library/BgeeDB’