Package: BgeeDB Version: 2.37.0 Maintainer: Julien Wollbrett , Julien Roux , Andrea Komljenovic , Frederic Bastian MaintainerEmail: bgee at sib.swiss git_url: https://git.bioconductor.org/packages/BgeeDB git_branch: devel git_last_commit: ac04c8e git_last_commit_date: 2025-10-29 10:31:46 -0500 (Wed, 29 Oct 2025)