Package: BgeeCall Version: 1.27.0 Command: /home/biocbuild/bbs-3.23-bioc/R/bin/R CMD INSTALL BgeeCall StartedAt: 2025-11-14 15:44:37 -0500 (Fri, 14 Nov 2025) EndedAt: 2025-11-14 15:44:48 -0500 (Fri, 14 Nov 2025) EllapsedTime: 11.4 seconds RetCode: 1 Status: ERROR