Package: BgeeCall Version: 1.27.0 Command: /Library/Frameworks/R.framework/Resources/bin/R CMD INSTALL BgeeCall StartedAt: 2025-11-14 15:23:03 -0500 (Fri, 14 Nov 2025) EndedAt: 2025-11-14 15:23:09 -0500 (Fri, 14 Nov 2025) EllapsedTime: 5.1 seconds RetCode: 1 Status: ERROR