Package: BgeeCall Version: 1.27.0 Command: /Library/Frameworks/R.framework/Resources/bin/R CMD build --keep-empty-dirs --no-resave-data BgeeCall StartedAt: 2025-11-14 15:44:13 -0500 (Fri, 14 Nov 2025) EndedAt: 2025-11-14 15:44:18 -0500 (Fri, 14 Nov 2025) EllapsedTime: 5.0 seconds RetCode: 1 Status: ERROR PackageFile: None PackageFileSize: NA