Package: BgeeCall Version: 1.27.0 Maintainer: Julien Wollbrett MaintainerEmail: julien.wollbrett at unil.ch git_url: https://git.bioconductor.org/packages/BgeeCall git_branch: devel git_last_commit: 7cf1fc3 git_last_commit_date: 2025-10-29 10:56:16 -0500 (Wed, 29 Oct 2025)