Package: BeadDataPackR Version: 1.63.0 Command: /home/biocbuild/bbs-3.23-bioc/R/bin/R CMD INSTALL BeadDataPackR StartedAt: 2025-11-11 15:09:55 -0500 (Tue, 11 Nov 2025) EndedAt: 2025-11-11 15:10:37 -0500 (Tue, 11 Nov 2025) EllapsedTime: 42.5 seconds RetCode: 0 Status: OK