Package: BeadDataPackR Version: 1.63.0 Command: /Library/Frameworks/R.framework/Resources/bin/R CMD build --keep-empty-dirs --no-resave-data BeadDataPackR StartedAt: 2025-11-13 15:46:53 -0500 (Thu, 13 Nov 2025) EndedAt: 2025-11-13 15:46:58 -0500 (Thu, 13 Nov 2025) EllapsedTime: 5.1 seconds RetCode: 0 Status: OK PackageFile: BeadDataPackR_1.63.0.tar.gz PackageFileSize: 235.9 KiB