Package: BeadDataPackR Version: 1.63.0 Maintainer: Mike Smith MaintainerEmail: grimbough at gmail.com git_url: https://git.bioconductor.org/packages/BeadDataPackR git_branch: devel git_last_commit: e497075 git_last_commit_date: 2025-10-29 10:04:38 -0500 (Wed, 29 Oct 2025)