Package: BayesSpace Version: 1.21.0 Command: /Library/Frameworks/R.framework/Resources/bin/R CMD INSTALL BayesSpace StartedAt: 2025-11-14 15:30:31 -0500 (Fri, 14 Nov 2025) EndedAt: 2025-11-14 15:30:55 -0500 (Fri, 14 Nov 2025) EllapsedTime: 24.0 seconds RetCode: 0 Status: OK