Package: BayesSpace Version: 1.21.0 Command: /Library/Frameworks/R.framework/Resources/bin/R CMD build --keep-empty-dirs --no-resave-data BayesSpace StartedAt: 2025-11-14 15:42:52 -0500 (Fri, 14 Nov 2025) EndedAt: 2025-11-14 15:43:59 -0500 (Fri, 14 Nov 2025) EllapsedTime: 66.7 seconds RetCode: 0 Status: OK PackageFile: BayesSpace_1.21.0.tar.gz PackageFileSize: 3.475 MiB