Package: BayesSpace Version: 1.21.0 Command: rm -rf BayesSpace.buildbin-libdir && mkdir BayesSpace.buildbin-libdir && /Users/biocbuild/BBS/utils/build-universal.sh BayesSpace_1.21.0.tar.gz /Library/Frameworks/R.framework/Resources/bin/R BayesSpace.buildbin-libdir StartedAt: 2025-11-13 23:28:38 -0500 (Thu, 13 Nov 2025) EndedAt: 2025-11-13 23:29:09 -0500 (Thu, 13 Nov 2025) EllapsedTime: 30.8 seconds RetCode: 0 Status: OK PackageFile: BayesSpace_1.21.0.tgz PackageFileSize: 3.772 MiB